BEGIN:VCALENDAR
VERSION:2.0
PRODID:-//South Carolina Real Estate School - ECPv6.15.20//NONSGML v1.0//EN
CALSCALE:GREGORIAN
METHOD:PUBLISH
X-ORIGINAL-URL:https://southcarolinarealestateschool.com
X-WR-CALDESC:Events for South Carolina Real Estate School
REFRESH-INTERVAL;VALUE=DURATION:PT1H
X-Robots-Tag:noindex
X-PUBLISHED-TTL:PT1H
BEGIN:VTIMEZONE
TZID:America/New_York
BEGIN:DAYLIGHT
TZOFFSETFROM:-0500
TZOFFSETTO:-0400
TZNAME:EDT
DTSTART:20250309T070000
END:DAYLIGHT
BEGIN:STANDARD
TZOFFSETFROM:-0400
TZOFFSETTO:-0500
TZNAME:EST
DTSTART:20251102T060000
END:STANDARD
BEGIN:DAYLIGHT
TZOFFSETFROM:-0500
TZOFFSETTO:-0400
TZNAME:EDT
DTSTART:20260308T070000
END:DAYLIGHT
BEGIN:STANDARD
TZOFFSETFROM:-0400
TZOFFSETTO:-0500
TZNAME:EST
DTSTART:20261101T060000
END:STANDARD
BEGIN:DAYLIGHT
TZOFFSETFROM:-0500
TZOFFSETTO:-0400
TZNAME:EDT
DTSTART:20270314T070000
END:DAYLIGHT
BEGIN:STANDARD
TZOFFSETFROM:-0400
TZOFFSETTO:-0500
TZNAME:EST
DTSTART:20271107T060000
END:STANDARD
BEGIN:DAYLIGHT
TZOFFSETFROM:-0500
TZOFFSETTO:-0400
TZNAME:EDT
DTSTART:20280312T070000
END:DAYLIGHT
BEGIN:STANDARD
TZOFFSETFROM:-0400
TZOFFSETTO:-0500
TZNAME:EST
DTSTART:20281105T060000
END:STANDARD
END:VTIMEZONE
BEGIN:VEVENT
DTSTART;VALUE=DATE:20261207
DTEND;VALUE=DATE:20270101
DTSTAMP:20260421T085849
CREATED:20260313T161238Z
LAST-MODIFIED:20260420T125145Z
UID:4451-1796601600-1798761599@southcarolinarealestateschool.com
SUMMARY:December 7th - December 31st Evening Class
DESCRIPTION:Evening classes are in session Monday – Thursday from 6:00 PM to 9:30 PM. No evening classes are held Friday – Sunday.\nClasses are conducted via Zoom\, and a link will be provided before the start of the course.  \nUNIT 1 + 2 PACKAGE – $649 (December 7th – December 31st)  No classes on December 25-26\, 2026. \nUNIT 1 Only – $396 (December 7th – December 22nd) | UNIT 2 Only – $299 (December 23rd – December 31st). No class on December 25th – 26th\, class ends on December 31st. \nREFUND POLICY: Due to the limited availability of seats\, payment in full is required at the time of registration to ensure an available seat for all students.  A 100% refund is available if notice is given at least 72-hours prior to the first day of the course. All sales are final within 72-hours prior to the first day of the course\, but the class is transferable to a future date as long as space is available. No refund will be given for `no shows` or after attending any portion of the course. \nIf you are having issues with your payment on our website\, please email info@southcarolinarealestateschool.com for assistance.
URL:https://southcarolinarealestateschool.com/event/december-7th-december-31st-evening-class/
LOCATION:Instructor-Led Live Class via Zoom\, Link will be provided by instructor\, Available Statewide\, SC
ORGANIZER;CN="South Carolina Real Estate School":MAILTO:info@southcarolinarealestateschool.com
END:VEVENT
BEGIN:VEVENT
DTSTART;VALUE=DATE:20261221
DTEND;VALUE=DATE:20270103
DTSTAMP:20260421T085849
CREATED:20260320T140949Z
LAST-MODIFIED:20260320T141101Z
UID:4485-1797811200-1798934399@southcarolinarealestateschool.com
SUMMARY:December 21st - January 2nd Daytime Class
DESCRIPTION:Daytime classes are in session Monday through Saturday from 8:30 AM to 5:30 PM.  No class on SUNDAY.\nClass is held via Zoom and a link will be provided prior to the beginning of class.  \nUNIT 1 + 2 PACKAGE – $649 (December 21st – January 2nd) No class on December 25 – 26\, 2026. \nUNIT 1 Only – $396 (December 21st – December 29th) | UNIT 2 Only – $299 (December 30th – January 2nd)  \nREFUND POLICY: Due to the limited availability of seats\, payment in full is required at the time of registration to ensure an available seat for all students.  A 100% refund is available if notice is given at least 72-hours prior to the first day of the course. All sales are final within 72-hours prior to the first day of the course\, but the class is transferable to a future date as long as space is available. No refund will be given for `no shows` or after attending any portion of the course. \nIf you are having issues with your payment on our website\, please email info@southcarolinarealestateschool.com for assistance.
URL:https://southcarolinarealestateschool.com/event/december-21st-january-2nd-daytime-class/
LOCATION:Instructor-Led Live Class via Zoom\, Link will be provided by instructor\, Available Statewide\, SC
ORGANIZER;CN="South Carolina Real Estate School":MAILTO:info@southcarolinarealestateschool.com
END:VEVENT
END:VCALENDAR