BEGIN:VCALENDAR
VERSION:2.0
PRODID:-//South Carolina Real Estate School - ECPv6.15.20//NONSGML v1.0//EN
CALSCALE:GREGORIAN
METHOD:PUBLISH
X-ORIGINAL-URL:https://southcarolinarealestateschool.com
X-WR-CALDESC:Events for South Carolina Real Estate School
REFRESH-INTERVAL;VALUE=DURATION:PT1H
X-Robots-Tag:noindex
X-PUBLISHED-TTL:PT1H
BEGIN:VTIMEZONE
TZID:UTC
BEGIN:STANDARD
TZOFFSETFROM:+0000
TZOFFSETTO:+0000
TZNAME:UTC
DTSTART:20210101T000000
END:STANDARD
END:VTIMEZONE
BEGIN:VEVENT
DTSTART;VALUE=DATE:20220829
DTEND;VALUE=DATE:20220911
DTSTAMP:20260421T182537
CREATED:20220315T004416Z
LAST-MODIFIED:20220315T004416Z
UID:2885-1661731200-1662854399@southcarolinarealestateschool.com
SUMMARY:August 29th - September 10th: Daytime Classes
DESCRIPTION:* SPECIAL DISCOUNTED PRICE! *  \nDaytime classes are in session Monday through Saturday from 8:30 AM to 5:30 PM.  No class on SUNDAY.\nClass is held via Zoom and a link will be provided prior to the beginning of class.  \nUNIT 1 + 2 PACKAGE – $599 (August 29th – September 10th)    \nUNIT 1 – $369 (August 29th – September 6th)    | UNIT 2 – $299 (September 7th – September 10th) \nREFUND POLICY: Due to the limited availability of seats\, payment in full is required at the time of registration to ensure an available seat for all students.  A 100% refund is available if notice is given at least 72-hours prior to the first day of the course. All sales are final within 72-hours prior to the first day of the course\, but the class is transferable to a future date as long as space is available. No refund will be given for `no shows` or after attending any portion of the course.
URL:https://southcarolinarealestateschool.com/event/august-29th-september-10th-daytime-classes/
LOCATION:Instructor-Led Live Class via Zoom\, Link will be provided by instructor\, Available Statewide\, SC
ORGANIZER;CN="South Carolina Real Estate School":MAILTO:info@southcarolinarealestateschool.com
END:VEVENT
BEGIN:VEVENT
DTSTART;VALUE=DATE:20220808
DTEND;VALUE=DATE:20220821
DTSTAMP:20260421T182537
CREATED:20220315T002131Z
LAST-MODIFIED:20220315T004658Z
UID:2879-1659916800-1661039999@southcarolinarealestateschool.com
SUMMARY:August 8th - August 20th: Daytime Classes
DESCRIPTION:* SPECIAL DISCOUNTED PRICE! *  \nDaytime classes are in session Monday through Saturday from 8:30 AM to 5:30 PM.  No class on SUNDAY.\nClass is held via Zoom and a link will be provided prior to the beginning of class.  \nUNIT 1 + 2 PACKAGE – $599 (August 8th – August 20th)    \nUNIT 1 – $369 (August 8th – August 16th)    | UNIT 2 – $299 (August 17th – August 20th) \nREFUND POLICY: Due to the limited availability of seats\, payment in full is required at the time of registration to ensure an available seat for all students.  A 100% refund is available if notice is given at least 72-hours prior to the first day of the course. All sales are final within 72-hours prior to the first day of the course\, but the class is transferable to a future date as long as space is available. No refund will be given for `no shows` or after attending any portion of the course.
URL:https://southcarolinarealestateschool.com/event/august-8th-august-20th-daytime-classes/
LOCATION:Instructor-Led Live Class via Zoom\, Link will be provided by instructor\, Available Statewide\, SC
ORGANIZER;CN="South Carolina Real Estate School":MAILTO:info@southcarolinarealestateschool.com
END:VEVENT
BEGIN:VEVENT
DTSTART;VALUE=DATE:20220808
DTEND;VALUE=DATE:20220809
DTSTAMP:20260421T182537
CREATED:20220712T221456Z
LAST-MODIFIED:20220712T221456Z
UID:2997-1659916800-1660003199@southcarolinarealestateschool.com
SUMMARY:August 8th - September 15th: Evening Classes
DESCRIPTION:* SPECIAL DISCOUNTED PRICE! *  \nEvening classes are in session Monday – Thursday from 6:00 PM to 9:30 PM over a 5-week period.  No evening classes are held Friday – Sunday with the exception of the week of Labor Day. There will be no class on Labor Day; class will be held Tues-Fri that week.\nClass is held via Zoom and a link will be provided prior to the beginning of class.  \nUNIT 1 + 2 PACKAGE – $599 (August 8-11\, 15-18\, 22-25\, 29-Sept 1\, 6-9\, 12-15)    \nUNIT 1 Only – $369 (August 8-11\, 15-18\, 22-25\, 29-Sept 1)    | UNIT 2 Only – $299 (Sept 6-9\, 12-15) \nREFUND POLICY: Due to the limited availability of seats\, payment in full is required at the time of registration to ensure an available seat for all students.  A 100% refund is available if notice is given at least 72-hours prior to the first day of the course. All sales are final within 72-hours prior to the first day of the course\, but the class is transferable to a future date as long as space is available. No refund will be given for `no shows` or after attending any portion of the course.
URL:https://southcarolinarealestateschool.com/event/august-8th-september-15th-evening-classes/
LOCATION:Instructor-Led Live Class via Zoom\, Link will be provided by instructor\, Available Statewide\, SC
ORGANIZER;CN="South Carolina Real Estate School":MAILTO:info@southcarolinarealestateschool.com
END:VEVENT
BEGIN:VEVENT
DTSTART;VALUE=DATE:20220725
DTEND;VALUE=DATE:20220807
DTSTAMP:20260421T182537
CREATED:20220314T234728Z
LAST-MODIFIED:20220315T001717Z
UID:2874-1658707200-1659830399@southcarolinarealestateschool.com
SUMMARY:July 25th - August 6th: Daytime Classes
DESCRIPTION:* SPECIAL DISCOUNTED PRICE! *  \nDaytime classes are in session Monday through Saturday from 8:30 AM to 5:30 PM.  No class on SUNDAY.\nClass is held via Zoom and a link will be provided prior to the beginning of class.  \nUNIT 1 + 2 PACKAGE – $599 (July 25th – August 6th)    \nUNIT 1 – $369 (July 25th – August 2nd)    | UNIT 2 – $299 (August 3rd – August 6th) \nREFUND POLICY: Due to the limited availability of seats\, payment in full is required at the time of registration to ensure an available seat for all students.  A 100% refund is available if notice is given at least 72-hours prior to the first day of the course. All sales are final within 72-hours prior to the first day of the course\, but the class is transferable to a future date as long as space is available. No refund will be given for `no shows` or after attending any portion of the course.
URL:https://southcarolinarealestateschool.com/event/july-25th-august-6th/
LOCATION:Instructor-Led Live Class via Zoom\, Link will be provided by instructor\, Available Statewide\, SC
ORGANIZER;CN="South Carolina Real Estate School":MAILTO:info@southcarolinarealestateschool.com
END:VEVENT
BEGIN:VEVENT
DTSTART;VALUE=DATE:20220705
DTEND;VALUE=DATE:20220717
DTSTAMP:20260421T182537
CREATED:20220701T165905Z
LAST-MODIFIED:20220701T165905Z
UID:2991-1656979200-1658015999@southcarolinarealestateschool.com
SUMMARY:July 5th - July 16th: Daytime Classes
DESCRIPTION:* SPECIAL DISCOUNTED PRICE! *  \nDaytime classes are in session Monday through Saturday from 8:30 AM to 5:30 PM.  No class on SUNDAY.\nClass is held via Zoom and a link will be provided prior to the beginning of class.  \nUNIT 1 + 2 PACKAGE – $599 (July 5th – July 16th)    \nUNIT 1 – $369 (July 5th – July 12th)    | UNIT 2 – $299 (July 13th – July 16th) \nREFUND POLICY: Due to the limited availability of seats\, payment in full is required at the time of registration to ensure an available seat for all students.  A 100% refund is available if notice is given at least 72-hours prior to the first day of the course. All sales are final within 72-hours prior to the first day of the course\, but the class is transferable to a future date as long as space is available. No refund will be given for `no shows` or after attending any portion of the course.
URL:https://southcarolinarealestateschool.com/event/july-5th-july-16th-daytime-classes/
LOCATION:Instructor-Led Live Class via Zoom\, Link will be provided by instructor\, Available Statewide\, SC
ORGANIZER;CN="South Carolina Real Estate School":MAILTO:info@southcarolinarealestateschool.com
END:VEVENT
BEGIN:VEVENT
DTSTART;VALUE=DATE:20220620
DTEND;VALUE=DATE:20220703
DTSTAMP:20260421T182537
CREATED:20220314T234047Z
LAST-MODIFIED:20220314T234047Z
UID:2869-1655683200-1656806399@southcarolinarealestateschool.com
SUMMARY:June 20th - July 2nd: Daytime Classes
DESCRIPTION:* SPECIAL DISCOUNTED PRICE! *  \nDaytime classes are in session Monday through Saturday from 8:30 AM to 5:30 PM.  No class on SUNDAY.\nClass is held via Zoom and a link will be provided prior to the beginning of class.  \nUNIT 1 + 2 PACKAGE – $599 (June 20th – July 2nd)    \nUNIT 1 – $369 (June 20th – June 28th)    | UNIT 2 – $299 (June 29th – July 2nd) \nREFUND POLICY: Due to the limited availability of seats\, payment in full is required at the time of registration to ensure an available seat for all students.  A 100% refund is available if notice is given at least 72-hours prior to the first day of the course. All sales are final within 72-hours prior to the first day of the course\, but the class is transferable to a future date as long as space is available. No refund will be given for `no shows` or after attending any portion of the course.
URL:https://southcarolinarealestateschool.com/event/june-20th-july-2nd-daytime-classes/
LOCATION:Instructor-Led Live Class via Zoom\, Link will be provided by instructor\, Available Statewide\, SC
ORGANIZER;CN="South Carolina Real Estate School":MAILTO:info@southcarolinarealestateschool.com
END:VEVENT
BEGIN:VEVENT
DTSTART;VALUE=DATE:20220606
DTEND;VALUE=DATE:20220722
DTSTAMP:20260421T182537
CREATED:20220603T183400Z
LAST-MODIFIED:20220603T183400Z
UID:2973-1654473600-1658447999@southcarolinarealestateschool.com
SUMMARY:June 6th - July 21st: Evening Classes
DESCRIPTION:* SPECIAL DISCOUNTED PRICE! *  \nEvening classes are in session Monday – Thursday from 6:00 PM to 9:30 PM over a 5-week period.  No evening classes are held Friday – Sunday.\nClass is held via Zoom and a link will be provided prior to the beginning of class.  \nUNIT 1 + 2 PACKAGE – $599 (June 6-9\, 13-17\, 20-24\, 27-30\, July 11-14\, 18-21)    \nUNIT 1 Only – $369 (June 6-9\, 13-17\, 20-24\, 27-30)    | UNIT 2 Only – $299 (July 11-14\, 18-21) \nREFUND POLICY: Due to the limited availability of seats\, payment in full is required at the time of registration to ensure an available seat for all students.  A 100% refund is available if notice is given at least 72-hours prior to the first day of the course. All sales are final within 72-hours prior to the first day of the course\, but the class is transferable to a future date as long as space is available. No refund will be given for `no shows` or after attending any portion of the course.
URL:https://southcarolinarealestateschool.com/event/june-6th-july-21st-evening-classes-2/
LOCATION:Instructor-Led Live Class via Zoom\, Link will be provided by instructor\, Available Statewide\, SC
ORGANIZER;CN="South Carolina Real Estate School":MAILTO:info@southcarolinarealestateschool.com
END:VEVENT
BEGIN:VEVENT
DTSTART;VALUE=DATE:20220531
DTEND;VALUE=DATE:20220612
DTSTAMP:20260421T182537
CREATED:20220314T214642Z
LAST-MODIFIED:20220314T214642Z
UID:2863-1653955200-1654991999@southcarolinarealestateschool.com
SUMMARY:May 31st - June 11th: Daytime Classes
DESCRIPTION:* SPECIAL DISCOUNTED PRICE! *  \nDaytime classes are in session Monday through Saturday from 8:30 AM to 5:30 PM.  No class on SUNDAY.\nClass is held via Zoom and a link will be provided prior to the beginning of class.  \nUNIT 1 + 2 PACKAGE – $599 (May 31st – June 11th)    \nUNIT 1 – $369 (May 31st – June 7th)    | UNIT 2 – $299 (June 8th – June 11th) \nREFUND POLICY: Due to the limited availability of seats\, payment in full is required at the time of registration to ensure an available seat for all students.  A 100% refund is available if notice is given at least 72-hours prior to the first day of the course. All sales are final within 72-hours prior to the first day of the course\, but the class is transferable to a future date as long as space is available. No refund will be given for `no shows` or after attending any portion of the course.
URL:https://southcarolinarealestateschool.com/event/may-31st-june-11th-daytime-classes/
LOCATION:Instructor-Led Live Class via Zoom\, Link will be provided by instructor\, Available Statewide\, SC
ORGANIZER;CN="South Carolina Real Estate School":MAILTO:info@southcarolinarealestateschool.com
END:VEVENT
BEGIN:VEVENT
DTSTART;VALUE=DATE:20220502
DTEND;VALUE=DATE:20220515
DTSTAMP:20260421T182537
CREATED:20220314T211628Z
LAST-MODIFIED:20220314T211628Z
UID:2858-1651449600-1652572799@southcarolinarealestateschool.com
SUMMARY:May 2nd - May 14th: Daytime Classes
DESCRIPTION:* SPECIAL DISCOUNTED PRICE! *  \nDaytime classes are in session Monday through Saturday from 8:30 AM to 5:30 PM.  No class on SUNDAY.\nClass is held via Zoom and a link will be provided prior to the beginning of class.  \nUNIT 1 + 2 PACKAGE – $599 (May 2nd – May 14th)    \nUNIT 1 – $369 (May 2nd – May 10th)    | UNIT 2 – $299 (May 11th – May 14th) \nREFUND POLICY: Due to the limited availability of seats\, payment in full is required at the time of registration to ensure an available seat for all students.  A 100% refund is available if notice is given at least 72-hours prior to the first day of the course. All sales are final within 72-hours prior to the first day of the course\, but the class is transferable to a future date as long as space is available. No refund will be given for `no shows` or after attending any portion of the course.
URL:https://southcarolinarealestateschool.com/event/may-2nd-may-14th-daytime-classes/
LOCATION:Instructor-Led Live Class via Zoom\, Link will be provided by instructor\, Available Statewide\, SC
ORGANIZER;CN="South Carolina Real Estate School":MAILTO:info@southcarolinarealestateschool.com
END:VEVENT
BEGIN:VEVENT
DTSTART;VALUE=DATE:20220402
DTEND;VALUE=DATE:20220509
DTSTAMP:20260421T182537
CREATED:20220315T005327Z
LAST-MODIFIED:20220315T005327Z
UID:2890-1648857600-1652054399@southcarolinarealestateschool.com
SUMMARY:April 2nd - May 8th: Weekend Classes
DESCRIPTION:* SPECIAL DISCOUNTED PRICE! *  \nWeekend classes are in session Saturday & Sunday from 8:30 AM to 5:30 PM over a 5-week period.  No weekend classes are held Monday – Friday.\nClass is held via Zoom and a link will be provided prior to the beginning of class.  \nUNIT 1 + 2 PACKAGE – $599 (April 2-3\, 9-10\, 16-17\, 23-24\, 30-May 1\, 7-8)    \nUNIT 1 Only – $369 (April 2-3\, 9-10\, 16-17\, 23-24)    | UNIT 2 Only – $299 (April 30-May 1\, 7-8) \nREFUND POLICY: Due to the limited availability of seats\, payment in full is required at the time of registration to ensure an available seat for all students.  A 100% refund is available if notice is given at least 72-hours prior to the first day of the course. All sales are final within 72-hours prior to the first day of the course\, but the class is transferable to a future date as long as space is available. No refund will be given for `no shows` or after attending any portion of the course.
URL:https://southcarolinarealestateschool.com/event/april-2nd-may-8th-weekend-classes/
LOCATION:Instructor-Led Live Class via Zoom\, Link will be provided by instructor\, Available Statewide\, SC
ORGANIZER;CN="South Carolina Real Estate School":MAILTO:info@southcarolinarealestateschool.com
END:VEVENT
BEGIN:VEVENT
DTSTART;VALUE=DATE:20220314
DTEND;VALUE=DATE:20220422
DTSTAMP:20260421T182537
CREATED:20220315T010311Z
LAST-MODIFIED:20220315T010311Z
UID:2895-1647216000-1650585599@southcarolinarealestateschool.com
SUMMARY:March 14th - April 21st: Evening Classes
DESCRIPTION:* SPECIAL DISCOUNTED PRICE! *  \nEvening classes are in session Monday – Thursday from 6:00 PM to 9:30 PM over a 5-week period.  No evening classes are held Friday – Sunday.\nClass is held via Zoom and a link will be provided prior to the beginning of class.  \nUNIT 1 + 2 PACKAGE – $599 (March 14-17\, 21-24\, 28-31\, April 4-7\, 11-14\, 18-21)    \nUNIT 1 Only – $369 (March 14-17\, 21-24\, 28-31\, April 4-7)    | UNIT 2 Only – $299 (April 11-14\, 18-21) \nREFUND POLICY: Due to the limited availability of seats\, payment in full is required at the time of registration to ensure an available seat for all students.  A 100% refund is available if notice is given at least 72-hours prior to the first day of the course. All sales are final within 72-hours prior to the first day of the course\, but the class is transferable to a future date as long as space is available. No refund will be given for `no shows` or after attending any portion of the course.
URL:https://southcarolinarealestateschool.com/event/march-14th-april-21st-evening-classes/
LOCATION:Instructor-Led Live Class via Zoom\, Link will be provided by instructor\, Available Statewide\, SC
ORGANIZER;CN="South Carolina Real Estate School":MAILTO:info@southcarolinarealestateschool.com
END:VEVENT
END:VCALENDAR